BEGIN:VCALENDAR
VERSION:2.0
PRODID:-//Soiree - ECPv6.0.9//NONSGML v1.0//EN
CALSCALE:GREGORIAN
METHOD:PUBLISH
X-ORIGINAL-URL:https://soireewma.com
X-WR-CALDESC:Events for Soiree
REFRESH-INTERVAL;VALUE=DURATION:PT1H
X-Robots-Tag:noindex
X-PUBLISHED-TTL:PT1H
BEGIN:VTIMEZONE
TZID:America/New_York
BEGIN:DAYLIGHT
TZOFFSETFROM:-0500
TZOFFSETTO:-0400
TZNAME:EDT
DTSTART:20260308T070000
END:DAYLIGHT
BEGIN:STANDARD
TZOFFSETFROM:-0400
TZOFFSETTO:-0500
TZNAME:EST
DTSTART:20261101T060000
END:STANDARD
END:VTIMEZONE
BEGIN:VEVENT
DTSTART;TZID=America/New_York:20260612T130000
DTEND;TZID=America/New_York:20260612T140000
DTSTAMP:20260419T092545
CREATED:20260226T193929Z
LAST-MODIFIED:20260411T001447Z
UID:1138-1781269200-1781272800@soireewma.com
SUMMARY:Countdown 2026 - Songs of the Cinema
DESCRIPTION:Musical presentation with video of the songs of our memorable movies from the 1960s and forward.
URL:https://soireewma.com/appearance/countdown-2026-songs-of-the-cinema-3/
LOCATION:Easthampton Council on Aging and Enrichment Center\, 19 Union Street\, Easthampton\, MA\, 01027\, United States
CATEGORIES:Easthampton Senior Center
END:VEVENT
END:VCALENDAR